BEGIN:VCALENDAR
VERSION:2.0
PRODID:-// - ECPv6.15.20//NONSGML v1.0//EN
CALSCALE:GREGORIAN
METHOD:PUBLISH
X-ORIGINAL-URL:https://scout.fo
X-WR-CALDESC:Events for 
REFRESH-INTERVAL;VALUE=DURATION:PT1H
X-Robots-Tag:noindex
X-PUBLISHED-TTL:PT1H
BEGIN:VTIMEZONE
TZID:UTC
BEGIN:STANDARD
TZOFFSETFROM:+0000
TZOFFSETTO:+0000
TZNAME:UTC
DTSTART:20220101T000000
END:STANDARD
END:VTIMEZONE
BEGIN:VEVENT
DTSTART;TZID=UTC:20230127T080000
DTEND;TZID=UTC:20230129T170000
DTSTAMP:20260423T030449
CREATED:20221223T214111Z
LAST-MODIFIED:20221223T214111Z
UID:600-1674806400-1675011600@scout.fo
SUMMARY:K-lega
DESCRIPTION:Lega fyri skótar úr øllum samskipanum. Legan er fyri skótar ið ganga í 4. flokki og eldri.\nNógv ymisk verkstøð eru á skránni og skótarnir hava møguleika at velja seg inn á nøkur virksemi.
URL:https://scout.fo/event/k-lega-2/
LOCATION:Tórshavn
CATEGORIES:Føroya KFUK Skótar
END:VEVENT
END:VCALENDAR